BEGIN:VCALENDAR
VERSION:2.0
METHOD:PUBLISH
X-WR-CALNAME;VALUE=TEXT:
PRODID:-//Drupal iCal API//EN
BEGIN:VEVENT
UID:wfbb-event-2747
DTSTAMP:20241118T145939Z
DTSTART:20220427T110000Z
DTEND:20220427T121500Z
SUMMARY:From Power Point to Power Plant
DESCRIPTION:In einer Online-Veranstaltung sprechen Experten über Perspektiven der Nutzung von grünem Wasserstoff in Deutschland und damit verbundene Herausforderungen.
LOCATION:online
URL:https://www.kommunaldigital.de/power-point-power-plant
END:VEVENT
END:VCALENDAR
