BEGIN:VCALENDAR
VERSION:2.0
METHOD:PUBLISH
X-WR-CALNAME;VALUE=TEXT:
PRODID:-//Drupal iCal API//EN
BEGIN:VEVENT
UID:wfbb-event-2941
DTSTAMP:20241118T145942Z
DTSTART:20221108T083000Z
DTEND:20221109T150000Z
SUMMARY:Projects4GreenEnergy:Connected
DESCRIPTION:Die Sächsische Energieagentur (SAENA GmbH) &amp; das Enterprise Europe Network laden Sie ein zur Online-Veranstaltung Projects4GreenEnergy:Connected, die sich an Unternehmen, Forschungseinrichtungen, Universitäten und Cluster aus den Bereichen Energie und Greentech richtet.
LOCATION:online
URL:https://een-bb.de/termine/detail/online-projects4greenenergy-connected/551e9257487d075b7abf0cb4cda0cf28.html
END:VEVENT
END:VCALENDAR
