BEGIN:VCALENDAR
VERSION:2.0
METHOD:PUBLISH
X-WR-CALNAME;VALUE=TEXT:
PRODID:-//Drupal iCal API//EN
BEGIN:VEVENT
UID:wfbb-event-2964
DTSTAMP:20241118T145942Z
DTSTART:20220928T080000Z
DTEND:20220928T100000Z
SUMMARY:Kundenzentrierte Produkt- &amp; Dienstleistungsentwicklung
DESCRIPTION:Die Digitalisierung verändert nicht nur Unternehmensprozesse, sondern auch die Beziehung zum Kunden und seine Anforderungen an Produkte und Dienstleistungen. Im kostenfreien Online-Seminar erfahren Sie, wie Sie Ihr Angebot gezielt für Ihre Kunden mit Hilfe der Digitalisierung verbessern.
LOCATION:online
URL:https://www.imi4bb.de/event-details/kundenzentrierte-produkt-dienstleistungsentwicklung
END:VEVENT
END:VCALENDAR
