BEGIN:VCALENDAR
VERSION:2.0
METHOD:PUBLISH
X-WR-CALNAME;VALUE=TEXT:
PRODID:-//Drupal iCal API//EN
BEGIN:VEVENT
UID:wfbb-event-3017
DTSTAMP:20241118T145942Z
DTSTART:20221010T120000Z
DTEND:20221010T130000Z
SUMMARY:Austauschrunde Energieversorgungskrise der Brandenburgischen IHKn
DESCRIPTION:Im kostenfreien Online-Webinar der Brandenburgischen IHKn am 10 Oktober 2022 von 14 - 15 Uhr erhalten Unternehmen Informationen zur aktuellen Lage am Energiemarkt, Antworten auf Ihre eigenen Energiefragen sowie die Möglichkeit zum Austausch untereinander.
LOCATION:online
URL:https://veranstaltung.ihk-potsdam.de/energie-krise
END:VEVENT
END:VCALENDAR
