BEGIN:VCALENDAR
VERSION:2.0
METHOD:PUBLISH
X-WR-CALNAME;VALUE=TEXT:
PRODID:-//Drupal iCal API//EN
BEGIN:VEVENT
UID:wfbb-event-3030
DTSTAMP:20241118T145942Z
DTSTART:20221102T140000Z
DTEND:20221102T150000Z
SUMMARY:ELLB: European Battery Ecosystem
DESCRIPTION:Das neue European Learning Lab Battery Cells (ELLB) der Fraunhofer FFB startet mit einer neuen Webinarreihe, in der Experten entlang der Batterie-Wertschöpfungskette ihr Wissen teilen. In der ersten Ausgabe soll ein Überblick über das aktuelle Europäische Batterie-Ökosystem gegeben werden.
LOCATION:online
URL:https://teams.microsoft.com/registration/DDAw-X3JGUC-A63WUKFxxA,15W4pvLZJ0eHpcTsXcY1Mg,uAvqn-JOpUOyv9rS_ZeLtQ,NIIHylcLPUWbrLgaPQnbHQ,4AjTh9k4k0SMsSLZVu_NDA,oy0NDwrHZkukIpCzELMYmg?mode=read&amp;tenantId=f930300c-c97d-4019-be03-add650a171c4&amp;skipauthstrap=1
END:VEVENT
END:VCALENDAR
