BEGIN:VCALENDAR
VERSION:2.0
METHOD:PUBLISH
X-WR-CALNAME;VALUE=TEXT:
PRODID:-//Drupal iCal API//EN
BEGIN:VEVENT
UID:wfbb-event-3033
DTSTAMP:20240913T114340Z
DTSTART:20221024T090000Z
DTEND:20221024T100000Z
SUMMARY:Webinar &quot;Up-Date Energierecht in bewegten Zeiten&quot;
DESCRIPTION:In den vergangenen Monaten prasselt es Gesetzesvorlagen als Reaktion auf die durch den Ukrainekrieg ausgelöste Energieversorgungskrise. Das Webinar soll einen Überblick über die wesentlichen anstehenden Änderungen verschaffen. Insbesondere wird es um folgende Neuregelungen gehen: 


	Änderung des EEG 2023 in Gestalt des Energiesicherheitsgesetzes
	Auswirkungen der EU-Verordnung über Notfallmaßnahmen als Reaktion auf die hohen Energiepreise auf PPA
	Bedeutung des Spitzenausgleich bei der Strom- und der Energiesteuer


Im Anschluss wird es Zeit für Fragen und Diskussionen geben! HIER können Sie sich für das Webinar anmelden.
LOCATION:online
URL:https://www.eventbrite.de/e/webinar-up-date-energierecht-in-bewegten-zeiten-tickets-439560175317
END:VEVENT
END:VCALENDAR
