BEGIN:VCALENDAR
VERSION:2.0
METHOD:PUBLISH
X-WR-CALNAME;VALUE=TEXT:
PRODID:-//Drupal iCal API//EN
BEGIN:VEVENT
UID:wfbb-event-3051
DTSTAMP:20241118T145942Z
DTSTART:20221116T090000Z
DTEND:20221116T110000Z
SUMMARY:Innovative Lösungen für die Wärmewende in Brandenburg
DESCRIPTION:Das Cluster Energietechnik Berlin-Brandenburg, die Ministerien für Wirtschaft, Arbeit und Energie (MWAE) und Infrastruktur und Landesplanung (MIL) des Landes Brandenburg laden Sie herzlichen ein zu einer digitalen Fachveranstaltung, die sich der Wärmewende in Brandenburg widmet.
LOCATION:online
URL:
END:VEVENT
END:VCALENDAR
