BEGIN:VCALENDAR
VERSION:2.0
METHOD:PUBLISH
X-WR-CALNAME;VALUE=TEXT:
PRODID:-//Drupal iCal API//EN
BEGIN:VEVENT
UID:wfbb-event-3200
DTSTAMP:20241118T145944Z
DTSTART:20230322T080000Z
DTEND:20230322T083000Z
SUMMARY:Lausitz Advanced Knowledge Exchange by iCampµs Cottbus: LEAG Gigawatt-Factory
DESCRIPTION:Das Format LAKE (Lausitz Advanced Knowledge Exchange) vom iCampµs Cottbus bietet in knackigen 30 Minuten (20 Min. Vortrag und 10 Min. Diskussion) eine offene Bühne für Vernetzung und Ideenaustausch zu aktuellen F&amp;E-Themen. 
LOCATION:online
URL:https://register.gotowebinar.com/rt/5060088178540808797
END:VEVENT
END:VCALENDAR
