BEGIN:VCALENDAR
VERSION:2.0
METHOD:PUBLISH
X-WR-CALNAME;VALUE=TEXT:
PRODID:-//Drupal iCal API//EN
BEGIN:VEVENT
UID:wfbb-event-3252
DTSTAMP:20241118T145945Z
DTSTART:20230606T110000Z
DTEND:20230606T133000Z
SUMMARY:Innovative Lösungen für die Wärmewende
DESCRIPTION:In der Veranstaltung vom Klimabündnis Stadtentwicklung Brandenburg werden Beispiele der erfolgreichen Konzeption bzw. Umsetzung von integrierten Lösungen zur Wärmewende vorgestellt.
LOCATION:online
URL:https://klimabuendnis-stadtentwicklung.de/online-veranstaltung-innovative-loesungen-fuer-die-waermewende/
END:VEVENT
END:VCALENDAR
