BEGIN:VCALENDAR
VERSION:2.0
METHOD:PUBLISH
X-WR-CALNAME;VALUE=TEXT:
PRODID:-//Drupal iCal API//EN
BEGIN:VEVENT
UID:wfbb-event-3342
DTSTAMP:20240913T114409Z
DTSTART:20230928T110000Z
DTEND:20230928T120000Z
SUMMARY:Kaskadenfinanzierung – Kleinere Projektaufrufe laufender europäischer Projekte
DESCRIPTION:Eine Seminarreihe des EEN Berlin-Brandenburg - In unserer Online-Seminarreihe “EU-FÖRDERUNG Kompakt” präsentieren wir Ihnen immer donnerstags von 13-14 Uhr jeweils einen Aspekt aus dem Horizont Europa Programm (vor der Sommerpause) oder eine weitere europäische Fördermöglichkeit für Ihr Unternehmen (nach der Sommerpause).
LOCATION:online
URL:https://een-bb.de/termine/registrierung/eu-foerderung-kompakt-kaskadenfinanzierung-kleinere-projektaufrufe-laufender-europaeischer-projekte/
END:VEVENT
END:VCALENDAR
