BEGIN:VCALENDAR
VERSION:2.0
METHOD:PUBLISH
X-WR-CALNAME;VALUE=TEXT:
PRODID:-//Drupal iCal API//EN
BEGIN:VEVENT
UID:wfbb-event-3442
DTSTAMP:20241118T145945Z
DTSTART:20230914T110000Z
DTEND:20230914T133000Z
SUMMARY:So gelingt die kommunale Wärmeplanung
DESCRIPTION:Mit der Veranstaltung möchte das Klimabündnis Stadtentwicklung über die Anforderungen an eine kommunale Wärmeplanung informieren und anhand von pilothaften Praxisbeispielen Inhalte und Umsetzungsschritte der kommunalen Wärmeplanung vorstellen. 
LOCATION:online
URL:https://klimabuendnis-stadtentwicklung.de/online-veranstaltung-so-gelingt-die-kommunale-warmeplanung/
END:VEVENT
END:VCALENDAR
