BEGIN:VCALENDAR
VERSION:2.0
METHOD:PUBLISH
X-WR-CALNAME;VALUE=TEXT:
PRODID:-//Drupal iCal API//EN
BEGIN:VEVENT
UID:wfbb-event-3678
DTSTAMP:20240913T114409Z
DTSTART:20240124T150000Z
DTEND:20240124T160000Z
SUMMARY:it&#039;s.BB-Webinar | Abwehrmechanismen gegen Phishing und Ransomware
DESCRIPTION:Das IT-Sicherheitsnetzwerk Berlin-Brandenburg it’s.BB e.V. lädt zu seiner Awareness-Veranstaltung zum Thema „Wie schütze ich mich effizient? Abwehrmechanismen gegen Phishing und Ransomware“ ein. Das Webinar zielt darauf ab, Ihnen einen Überblick über aktuelle Strategien und Gegenmaßnahmen zu geben, um sich gegen die zunehmend raffinierteren Bedrohungen durch Phishing und Ransomware zu verteidigen.
LOCATION:online
URL:https://www.eventbrite.de/e/wie-schutze-ich-mich-effizient-tickets-793161295787?aff=oddtdtcreator
END:VEVENT
END:VCALENDAR
