BEGIN:VCALENDAR
VERSION:2.0
METHOD:PUBLISH
X-WR-CALNAME;VALUE=TEXT:
PRODID:-//Drupal iCal API//EN
BEGIN:VEVENT
UID:wfbb-event-3708
DTSTAMP:20240913T114409Z
DTSTART:20240220T150000Z
DTEND:20240220T160000Z
SUMMARY:it&#039;s.BB-Webinar | Datenleaks – Was sollten Unternehmen im Ernstfall tun?
DESCRIPTION:Das IT-Sicherheitsnetzwerk Berlin-Brandenburg it’s.BB e.V. lädt zu seiner Awareness-Veranstaltung zum Thema „Datenleaks – Was sollten Unternehmen im Ernstfall tun?“ ein. In der Veranstaltung beleuchten die Zentrale Ansprechstelle Cybercrime für die Wirtschaft im LKA Berlin und die Kanzlei Piltz Legal die Hintergründe, Handlungsmöglichkeiten und rechtlichen Rahmenvorgaben für Unternehmen.
LOCATION:online
URL:https://www.eventbrite.de/e/datenleaks-was-sollten-unternehmen-im-ernstfall-tun-tickets-807658045957?aff=oddtdtcreator&amp;utm_campaign=post_publish&amp;utm_medium=email&amp;utm_source=eventbrite&amp;utm_content=shortLinkNewEmail
END:VEVENT
END:VCALENDAR
