BEGIN:VCALENDAR
VERSION:2.0
METHOD:PUBLISH
X-WR-CALNAME;VALUE=TEXT:
PRODID:-//Drupal iCal API//EN
BEGIN:VEVENT
UID:wfbb-event-3782
DTSTAMP:20240913T114409Z
DTSTART:20240905T110000Z
DTEND:20240905T120000Z
SUMMARY:EU-FÖRDERUNG Kompakt 2024 | Horizont Europa: Budgetplanung
DESCRIPTION:Eine Seminarreihe des EEN Berlin-Brandenburg - In unserer Online-Seminarreihe “EU-FÖRDERUNG Kompakt” präsentieren wir Ihnen immer donnerstags von 13-14 Uhr jeweils einen Aspekt aus dem Horizont Europa Programm oder eine weitere europäische Fördermöglichkeit für Ihr Unternehmen.
LOCATION:online
URL:https://een-bb.de/v/online-eu-foerderung-kompakt-horizont-europa-budgetplanung/
END:VEVENT
END:VCALENDAR
