BEGIN:VCALENDAR
VERSION:2.0
METHOD:PUBLISH
X-WR-CALNAME;VALUE=TEXT:
PRODID:-//Drupal iCal API//EN
BEGIN:VEVENT
UID:wfbb-event-3836
DTSTAMP:20240913T114409Z
DTSTART:20240424T140000Z
DTEND:20240424T150000Z
SUMMARY:it&#039;s.BB-Webinar | Benötigt man eine Cyberversicherung?
DESCRIPTION:Das IT-Sicherheitsnetzwerk Berlin-Brandenburg it’s.BB e.V. lädt zu seiner Awareness-Veranstaltung zum Thema „Benötigt man eine Cyberversicherung?““ ein. Das Webinar greift wir wichtige Fragen zu Cyberversicherungen auf. Dies betrifft nicht nur Fragen einer möglichen Regulierung im Schadensfall, sondern auch die Sensibilisierung auf relevante Fragestellungen im eigenen Unternehmen bei der Prüfung und dem möglichen Abschluss einer Versicherung.
LOCATION:online
URL:https://www.eventbrite.de/e/benotigt-man-eine-cyberversicherung-tickets-871060845437?aff=oddtdtcreator
END:VEVENT
END:VCALENDAR
