BEGIN:VCALENDAR
VERSION:2.0
METHOD:PUBLISH
X-WR-CALNAME;VALUE=TEXT:
PRODID:-//Drupal iCal API//EN
BEGIN:VEVENT
UID:wfbb-event-3855
DTSTAMP:20241118T145929Z
DTSTART:20240513T120000Z
DTEND:20240513T133000Z
SUMMARY:Energie @ IHK: Von der LED-Beleuchtung bis zur Gebäudeautomation
DESCRIPTION:Webinar-Reihe Energie der IHKn in Brandenburg

Im Gebäudebetrieb gibt es eine Vielzahl an Stellschrauben, um die Effizienz zu steigern und Energiekosten einzusparen.
LOCATION:online
URL:https://veranstaltung.ihk-potsdam.de/b?p=webinar-reihe-energie4
END:VEVENT
END:VCALENDAR
