BEGIN:VCALENDAR
VERSION:2.0
METHOD:PUBLISH
X-WR-CALNAME;VALUE=TEXT:
PRODID:-//Drupal iCal API//EN
BEGIN:VEVENT
UID:wfbb-event-3954
DTSTAMP:20241118T145929Z
DTSTART:20240927T080000Z
DTEND:20240927T100000Z
SUMMARY:Finanzierung von Wasserstoffprojekten
DESCRIPTION:In dieser Online-Sprechstunde beantworten Finanzexperten Ihre Fragen zum Thema Finanzierung und Förderung von Wasserstoffprojekten in den Ländern des globalen Südens.
LOCATION:online
URL:https://www.german-energy-solutions.de/GES/Redaktion/DE/Veranstaltungen/Intern/2024/Finanzierungssprechstunden/sprechstunde-08.html
END:VEVENT
END:VCALENDAR
