BEGIN:VCALENDAR
VERSION:2.0
METHOD:PUBLISH
X-WR-CALNAME;VALUE=TEXT:
PRODID:-//Drupal iCal API//EN
BEGIN:VEVENT
UID:wfbb-event-820
DTSTAMP:20240913T114147Z
DTSTART:20200408T080000Z
DTEND:20200408T090000Z
SUMMARY:Projekt XR4ALL | Fördermöglichkeiten
DESCRIPTION:In diesem Webinar würden wir Ihnen gerne vorstellen, welche Fördermöglichkeiten das Projekt im Detail bietet und wie das Antragsverfahren abläuft.
LOCATION:
URL:
END:VEVENT
END:VCALENDAR
