BEGIN:VCALENDAR
VERSION:2.0
METHOD:PUBLISH
X-WR-CALNAME;VALUE=TEXT:
PRODID:-//Drupal iCal API//EN
BEGIN:VEVENT
UID:wfbb-event-836
DTSTAMP:20240913T114147Z
DTSTART:20200421T080000Z
DTEND:20200421T090000Z
SUMMARY:Projekt Digi-B-Cube I Fördermöglichkeiten
DESCRIPTION:In diesem Webinar würden wir Ihnen gerne vorstellen, welche Fördermöglichkeiten das Projekt Digi-B-Cube bietet und wie das Antragsverfahren abläuft.
LOCATION:
URL:https://een-bb.de/termine/anmeldung/21042020-webinar-zu-den-foerdermoeglichkeiten-fuer-kmus-aus-den-bereichen-it-und-diagnostik-im-rahmen-des-projektes-digi-b-cube/5e5687a353cfc8092b8212843a4675b7.html
END:VEVENT
END:VCALENDAR
