BEGIN:VCALENDAR
VERSION:2.0
METHOD:PUBLISH
X-WR-CALNAME;VALUE=TEXT:
PRODID:-//Drupal iCal API//EN
BEGIN:VEVENT
UID:wfbb-event-875
DTSTAMP:20240913T114147Z
DTSTART:20200504T070000Z
DTEND:20200505T180000Z
SUMMARY:Kooperationsbörse &quot;Innovation in Umwelt, Energie &amp; Kreislaufwirtschaft&quot;
DESCRIPTION:Das virtuelle Matchmaking zum Thema "Innovation in Environment &amp; Energy &amp; Circular Economy" eröffnet die Möglichkeit von Zuhause aus neue Kontakte aus Ihrem Interessensbereich kennenzulernen und spannende Projektkooperationen anzustoßen.
LOCATION:
URL:https://international-partnering-environment-2020.b2match.io/
END:VEVENT
END:VCALENDAR
