BEGIN:VCALENDAR
VERSION:2.0
METHOD:PUBLISH
X-WR-CALNAME;VALUE=TEXT:
PRODID:-//Drupal iCal API//EN
BEGIN:VEVENT
UID:wfbb-event-896
DTSTAMP:20260115T085344Z
DTSTART:20200507T140000Z
DTEND:20200513T150000Z
SUMMARY:Technisches EcoDesign
DESCRIPTION:Produktgestaltung als Treiber einer zirkulären Wertschöpfung
LOCATION:Zoom 00000 Online
URL:https://www.emscher-lippe.de/webinarreihe-des-prosperkollegs/#gform_wrapper_49
END:VEVENT
END:VCALENDAR
