BEGIN:VCALENDAR
VERSION:2.0
METHOD:PUBLISH
X-WR-CALNAME;VALUE=TEXT:
PRODID:-//Drupal iCal API//EN
BEGIN:VEVENT
UID:wfbb-event-899
DTSTAMP:20240913T114147Z
DTSTART:20200513T080000Z
DTEND:20200513T093000Z
SUMMARY:ERCI Webinar Prävention trifft Simulation
DESCRIPTION:In diesem Webinar können Bahnexperten mit Unternehmen aus dem ERCI-Netzwerk sprechen, deren innovative Lösungen die Corona-Krise - auch weit über die Bahnindustrie hinaus - angehen.
LOCATION:Live Video Conference 00000 GoToMeeting
URL:mailto: info@bts-sachsen.de
END:VEVENT
END:VCALENDAR
