BEGIN:VCALENDAR
VERSION:2.0
METHOD:PUBLISH
X-WR-CALNAME;VALUE=TEXT:
PRODID:-//Drupal iCal API//EN
BEGIN:VEVENT
UID:wfbb-event-902
DTSTAMP:20241118T145929Z
DTSTART:20200618T080000Z
DTEND:20200619T100000Z
SUMMARY:Forum Synergiewende: Webinar zur Sektorenkopplung
DESCRIPTION:Im Rahmen des Webinars werden die Möglichkeiten zur Verbindung von Strom- und Wärmesektor behandelt und auch die Potentiale von Power-to-X-Technologien aufgegriffen.
LOCATION:online 00000 Zoom
URL:https://www.forum-synergiewende.de/18-und-19-juni-2020-online-fachtagung-forum-synergiewende-moeglichkeiten-der-lokalen-wirtschaftsfoerderung-und-des-strukturwandels-durch-sektorenkopplung-in-ostdeutschland/
END:VEVENT
END:VCALENDAR
