BEGIN:VCALENDAR
VERSION:2.0
METHOD:PUBLISH
X-WR-CALNAME;VALUE=TEXT:
PRODID:-//Drupal iCal API//EN
BEGIN:VEVENT
UID:wfbb-event-919
DTSTAMP:20241118T145947Z
DTSTART:20200514T083000Z
DTEND:20200514T103000Z
SUMMARY:SET Hub | Online Projektvorstellung
DESCRIPTION:SET Hub richtet sich an Energiewende-Start-ups, die neue Use-Cases für den Energiemarkt initiieren wollen. In diesem Webinar gibt es einen ersten Einblick in das Projekt und die dazugehörigen Module.
LOCATION:online 00000 Zoom
URL:https://www.dena.de/fr/newsroom/veranstaltungen/2020/set-hub-der-hub-fuer-energiewende-start-ups-online-projektvorstellung/
END:VEVENT
END:VCALENDAR
