BEGIN:VCALENDAR
VERSION:2.0
METHOD:PUBLISH
X-WR-CALNAME;VALUE=TEXT:
PRODID:-//Drupal iCal API//EN
BEGIN:VEVENT
UID:wfbb-event-936
DTSTAMP:20240913T114147Z
DTSTART:20200527T080000Z
DTEND:20200527T093000Z
SUMMARY:Förderprogramm Mensch-Technik-Interaktion mit Mixed Reality Fokus
DESCRIPTION:Webinar zum BMBF Förderaufruf "Interaktive Systeme in virtuellen und realen Räumen - Innovative Technologien für die digitale Gesellschaft". 

 
LOCATION:online 00000 MS Teams
URL:
END:VEVENT
END:VCALENDAR
