BEGIN:VCALENDAR
VERSION:2.0
METHOD:PUBLISH
X-WR-CALNAME;VALUE=TEXT:
PRODID:-//Drupal iCal API//EN
BEGIN:VEVENT
UID:wfbb-event-945
DTSTAMP:20240913T114147Z
DTSTART:20200518T093000Z
DTEND:20200518T103000Z
SUMMARY:Town Hall Call: Soforthilfeprogramm V
DESCRIPTION:Zum Start des Soforthilfeprogramms V am 18. Mai veranstaltet Berlin Partner einen offenen Call für alle Berliner Unternehmen.
LOCATION:virtuell 00000 Zoom
URL:https://us02web.zoom.us/meeting/register/tZcsdOisrD4uHNFTeZJytWOaCuUQ8S_y29Kt
END:VEVENT
END:VCALENDAR
