BEGIN:VCALENDAR
VERSION:2.0
METHOD:PUBLISH
X-WR-CALNAME;VALUE=TEXT:
PRODID:-//Drupal iCal API//EN
BEGIN:VEVENT
UID:wfbb-event-992
DTSTAMP:20240913T114147Z
DTSTART:20200612T120000Z
DTEND:20200612T133000Z
SUMMARY:Starke PR für Greentechs
DESCRIPTION:In diesem Webinar des GREENTECH FESTIVALs geht es um die Grundlagen der PR.

 
LOCATION:online 00000 Zoom Meeting
URL:https://us02web.zoom.us/meeting/register/tZAofu2tqDwvHdxUINlCotY2hpRIIFWyRANy
END:VEVENT
END:VCALENDAR
