BEGIN:VCALENDAR
VERSION:2.0
METHOD:PUBLISH
X-WR-CALNAME;VALUE=TEXT:
PRODID:-//Drupal iCal API//EN
BEGIN:VEVENT
UID:wfbb-event-996
DTSTAMP:20240913T114147Z
DTSTART:20200626T070000Z
DTEND:20200626T160000Z
SUMMARY:CLIMATE TRANSFORMATION Summit
DESCRIPTION:Die Online-Konferenz für alle Climate Champions und Klimabeauftragte, die jetzt die Klimatransformation umsetzen!
LOCATION:Konferenz 00000 Online
URL:https://www.eventbrite.com/e/climate-transformation-summit-tickets-103930739640
END:VEVENT
END:VCALENDAR
