BEGIN:VCALENDAR
VERSION:2.0
METHOD:PUBLISH
X-WR-CALNAME;VALUE=TEXT:
PRODID:-//Drupal iCal API//EN
BEGIN:VEVENT
UID:wfbb-event-2887
DTSTAMP:20260115T085353Z
DTSTART:20220630T090000Z
DTEND:20220630T100000Z
SUMMARY:7. Impuls Smarte Quartiere
DESCRIPTION: „Pferde fressen keinen Gurkensalat“ – Ein Blick in die Zukunft der urbanen Logistik des #LASTMILECITYLAB
LOCATION:online
URL:https://us06web.zoom.us/webinar/register/WN_NeUg4ycUSHmtjd06THeRVA
END:VEVENT
END:VCALENDAR
