BEGIN:VCALENDAR
VERSION:2.0
METHOD:PUBLISH
X-WR-CALNAME;VALUE=TEXT:
PRODID:-//Drupal iCal API//EN
BEGIN:VEVENT
UID:wfbb-event-4018
DTSTAMP:20240927T191642Z
DTSTART:20241024T130000Z
DTEND:20241024T160000Z
SUMMARY:Optimierung und Hybridisierung für  nachhaltige Luftfahrttechnik
DESCRIPTION:Branchentreffen der BBAA
LOCATION:Technische Universität Berlin, Institut für Luft- und Raumfahrt Marchstraße 12-14 10587 Berlin
URL:mailto:office@bbaa.de
END:VEVENT
END:VCALENDAR
