BEGIN:VCALENDAR
VERSION:2.0
METHOD:PUBLISH
X-WR-CALNAME;VALUE=TEXT:
PRODID:-//Drupal iCal API//EN
BEGIN:VEVENT
UID:wfbb-event-4191
DTSTAMP:20250430T141512Z
DTSTART:20250513T100000Z
DTEND:20250513T120000Z
SUMMARY:Brandenburger KI Landpartie 2025 | KI &amp; Kreativwirtschaft
DESCRIPTION:Tag 2 der Brandenburger KI Landpartie 2025
LOCATION:Uckermärkische Bühnen (Probebühne) Steinstrasse 4 16303 Schwedt
URL:
END:VEVENT
END:VCALENDAR
