BEGIN:VCALENDAR
VERSION:2.0
METHOD:PUBLISH
X-WR-CALNAME;VALUE=TEXT:
PRODID:-//Drupal iCal API//EN
BEGIN:VEVENT
UID:wfbb-event-4456
DTSTAMP:20260422T090207Z
DTSTART:20260602T080000Z
DTEND:20260602T120000Z
SUMMARY:Wissenschaft trifft Wirtschaft - Von KI bis Life Science
DESCRIPTION:Eine von Potsdam Transfer, der Präsenzstelle und dem Life Science Cluster Hennigsdorf organisierte Veranstaltung an der Universität Potsdam vernetzt Forschung und Praxis durch kurze Fachimpulse, Laborführungen und Austauschmöglichkeiten.
LOCATION:Universität Potsdam, Campus Golm, Haus 29 Karl-Liebknecht-Str. 24-25 14476 Potsdam
URL:https://www.praesenzstelle-velten.de/termine/detail/wissenschaft-trifft-wirtschaft-1
END:VEVENT
END:VCALENDAR
